BEGIN:VCALENDAR
VERSION:2.0
PRODID:-//eventon.com NONSGML v1.0//EN
CALSCALE:GREGORIAN
METHOD:PUBLISH
BEGIN:VEVENT
UID:69e762521d36c
DTSTAMP:20260421T114106Z
DTSTART:20250210T130000Z
DTEND:20250210T160000Z
LOCATION:
SUMMARY:Kin-ball
DESCRIPTION:La Maison des Jeunes vous invite à venir vous affronter à ce 
 sport collectif qui se joue avec un gros ballon. Dès 8 ans - Prévoir des 
 chaussures de sport et une gourde. Entrée gratuite\nhttps://lofficieldepai
 mboeuf.com/events/apres-midi-kin-ball/
URL:https://lofficieldepaimboeuf.com/events/apres-midi-kin-ball/
END:VEVENT
END:VCALENDAR