BEGIN:VCALENDAR
VERSION:2.0
PRODID:-//eventon.com NONSGML v1.0//EN
CALSCALE:GREGORIAN
METHOD:PUBLISH
BEGIN:VEVENT
UID:69e76256dc9f9
DTSTAMP:20260421T114110Z
DTSTART:20250118T203000Z
DTEND:20250118T220000Z
LOCATION:
SUMMARY:Glimpse
DESCRIPTION:Duo rennais guitares/batterie de rock à l’atmosphère bercé
 e par Porcupine Tree et Tool.\nhttps://lofficieldepaimboeuf.com/events/glim
 pse/
URL:https://lofficieldepaimboeuf.com/events/glimpse/
END:VEVENT
END:VCALENDAR