BEGIN:VCALENDAR
VERSION:2.0
PRODID:-//eventon.com NONSGML v1.0//EN
CALSCALE:GREGORIAN
METHOD:PUBLISH
BEGIN:VEVENT
UID:69e7956c9036c
DTSTAMP:20260421T151908Z
DTSTART:20250205T102400Z
DTEND:20250205T225000Z
LOCATION:
SUMMARY:Atelier d'écriture
DESCRIPTION:À partir des photos de Jean D'Yvoire\,  Glawdys Sauvaget vous 
 invite à imaginer les histoires cachées derrière ces instantanés.Face a
 ux scènes saisies sur le vif par le photographe\,  que pouvons-nous devine
 r ou inventer de ce qui s'est passé juste avant\,  ou juste après ? À qu
 oi pensent ces personnes happées[..]\nhttps://lofficieldepaimboeuf.com/eve
 nts/atelier-decriture/
URL:https://lofficieldepaimboeuf.com/events/atelier-decriture/
END:VEVENT
END:VCALENDAR