BEGIN:VCALENDAR
VERSION:2.0
PRODID:-//eventon.com NONSGML v1.0//EN
CALSCALE:GREGORIAN
METHOD:PUBLISH
BEGIN:VEVENT
UID:69e76251ca8a0
DTSTAMP:20260421T114105Z
DTSTART:20250118
DTEND:20250119
LOCATION:
SUMMARY:Le PiÃ©ton de Paris
DESCRIPTION:CinquiÃ¨me Ã©dition de Janvier de lâ€™Image. Cette nouvelle exp
 osition patrimoniale portera sur le travail de Jean dâ€™Yvoire qui aura dÃ©
 ambulÃ© dans les rues de la capitale avec son appareil photo durant deux dÃ
 ©cennies (1960 et 1970). En simple passant\,  ce photographe singulier a su
  capter lâ€™essence dâ€™une Ã©poque qui fait[..]\nhttps://lofficieldepaimbo
 euf.com/events/janvier-de-limage-2025/
URL:https://lofficieldepaimboeuf.com/events/janvier-de-limage-2025/
END:VEVENT
END:VCALENDAR