BEGIN:VCALENDAR
VERSION:2.0
PRODID:-//eventon.com NONSGML v1.0//EN
CALSCALE:GREGORIAN
METHOD:PUBLISH
BEGIN:VEVENT
UID:69e7621c78566
DTSTAMP:20260421T114012Z
DTSTART:20250530T183000Z
DTEND:20250530T200000Z
LOCATION:
SUMMARY:HamaSaari
DESCRIPTION:Artisans d’un son à la fois massif et délicat\,  HamaSaari 
 réunit plusieurs pans des rocks progressifs passés et actuels. S’inspi
 rant des grands noms du style tel que Pink Floyd\,  Klone\,  Porcupine Tre
 e ou Karnivool\,  ils cisèlent et polissent les contours d’un voyage m
 usical et sensoriel. Née des cendres du groupe Shuffle\,  cette formation
  à la[..]\nhttps://lofficieldepaimboeuf.com/events/hamasaari/
URL:https://lofficieldepaimboeuf.com/events/hamasaari/
END:VEVENT
END:VCALENDAR