BEGIN:VCALENDAR
VERSION:2.0
PRODID:-//eventon.com NONSGML v1.0//EN
CALSCALE:GREGORIAN
METHOD:PUBLISH
BEGIN:VEVENT
UID:69ea2e0a63102
DTSTAMP:20260423T143450Z
DTSTART:20260503T150000Z
DTEND:20260503T215000Z
LOCATION:
SUMMARY:Santiago Gervasoni
DESCRIPTION:Concert de clavicorde par Santiago Gervasoni\,  pianiste\,  cla
 veciniste et compositeur franco-argentin. Formé au piano à la Hochschule
  für Musik Hanns Eisler de Berlin (Bachelor 2019) puis au clavecin à l’
 Université des Arts de Berlin (Master 2022)\,  Santiago Gervasoni dévelop
 pe une approche artistique mêlant musique ancienne\,  moderne\,  contempor
 aine\,  jazz et improvisation. Ce[..]\nhttps://lofficieldepaimboeuf.com/eve
 nts/santiago-gervasoni/
URL:https://lofficieldepaimboeuf.com/events/santiago-gervasoni/
END:VEVENT
END:VCALENDAR