BEGIN:VCALENDAR
VERSION:2.0
PRODID:-//eventon.com NONSGML v1.0//EN
CALSCALE:GREGORIAN
METHOD:PUBLISH
BEGIN:VEVENT
UID:69e643621da2a
DTSTAMP:20260420T151650Z
DTSTART:20260530T090000Z
DTEND:20260530T120000Z
LOCATION:
SUMMARY:Vélo pour tous
DESCRIPTION:Dans le cadre de Mai à vélo\,  portes ouvertes de vélo pour 
 Tous\,  chemin de l'Estuaire. Portes ouvertes de l’association Vélo Pour
  Tous Grande bourse aux vélos (lots et promotions) Atelier de réparation 
 de vélo Marquage vélo Présentation du service de location de vélo à as
 sistance électrique\nhttps://lofficieldepaimboeuf.com/events/velo-pour-tou
 s-2/
URL:https://lofficieldepaimboeuf.com/events/velo-pour-tous-2/
END:VEVENT
END:VCALENDAR