BEGIN:VCALENDAR
VERSION:2.0
PRODID:-//eventon.com NONSGML v1.0//EN
CALSCALE:GREGORIAN
METHOD:PUBLISH
BEGIN:VEVENT
UID:69e642e0277b8
DTSTAMP:20260420T151440Z
DTSTART:20260530
DTEND:20260531
LOCATION:
SUMMARY:Audition
DESCRIPTION:Élèves et professeurs se rassemblent autour d'un répertoire 
 de musique baroque et Renaissance.Info à venir\nhttps://lofficieldepaimboe
 uf.com/events/audition-2/
URL:https://lofficieldepaimboeuf.com/events/audition-2/
END:VEVENT
END:VCALENDAR