BEGIN:VCALENDAR
VERSION:2.0
PRODID:-//eventon.com NONSGML v1.0//EN
CALSCALE:GREGORIAN
METHOD:PUBLISH
BEGIN:VEVENT
UID:69e64261210fe
DTSTAMP:20260420T151233Z
DTSTART:20260411T090000Z
DTEND:20260523T110000Z
LOCATION:
SUMMARY:Ateliers œnologiques
DESCRIPTION:La boutique Les Flacons présente les Ateliers œnologiques de 
 Nicolas Barbou\,  sommelier ayant travaillé durant dix ans pour les belles
  tables étoilées de la région.Participez à un moment de transmission\, 
  de partage autour des vins et spiritueux au cœur de Paimbœuf\,  Place du
  Marché. Ateliers Vins et fromages : samedi[..]\nhttps://lofficieldepaimbo
 euf.com/events/ateliers-oenologiques/
URL:https://lofficieldepaimboeuf.com/events/ateliers-oenologiques/
END:VEVENT
END:VCALENDAR