BEGIN:VCALENDAR
VERSION:2.0
PRODID:-//eventon.com NONSGML v1.0//EN
CALSCALE:GREGORIAN
METHOD:PUBLISH
BEGIN:VEVENT
UID:69e64481381e6
DTSTAMP:20260420T152137Z
DTSTART:20260401
DTEND:20260402
LOCATION:
SUMMARY:Nyny Art & William Teffaut
DESCRIPTION:Deux artistes\,  un couple.William et Fanny\,  unis dans l’ar
 t comme dans la vie\,  sont deux artistes paimblotins développant leurs un
 ivers de contrastes ou de couleurs en s’inspirant de leurs balades sur le
 s sentiers et les plages du Pays de Retz. Les aquarelles de Fanny\,  alias
  Nyny Art\,  sont composées de couleurs[..]\nhttps://lofficieldepaimboeuf.
 com/events/nyny-art-william-teffaut/
URL:https://lofficieldepaimboeuf.com/events/nyny-art-william-teffaut/
END:VEVENT
END:VCALENDAR