BEGIN:VCALENDAR
VERSION:2.0
PRODID:-//eventon.com NONSGML v1.0//EN
CALSCALE:GREGORIAN
METHOD:PUBLISH
BEGIN:VEVENT
UID:69e638cfdb7f8
DTSTAMP:20260420T143143Z
DTSTART:20260407T100000Z
DTEND:20260424T160000Z
LOCATION:
SUMMARY:Graines
DESCRIPTION:Distribution de graines de pieds de murs Les Paimblotins sont i
 nvités à venir retirer leurs sachets de graines de pied de mur à l'accue
 il de la Mairie. Vous contribuerez ainsi à l’embellissement des rues en 
 y apportant couleurs\,  senteurs et fraîcheur\,  tout en favorisant le bie
 n-être de tous. En semant[..]\nhttps://lofficieldepaimboeuf.com/events/gra
 ines/
URL:https://lofficieldepaimboeuf.com/events/graines/
END:VEVENT
END:VCALENDAR