BEGIN:VCALENDAR
VERSION:2.0
PRODID:-//eventon.com NONSGML v1.0//EN
CALSCALE:GREGORIAN
METHOD:PUBLISH
BEGIN:VEVENT
UID:69e63957c4ba6
DTSTAMP:20260420T143359Z
DTSTART:20260311T123000Z
DTEND:20260408T130000Z
LOCATION:
SUMMARY:Spray aérosols
DESCRIPTION:Ateliers 13Arts Venez découvrir l'association locale et la ré
 sidence artistique 13Arts et vous initiez à la technique du spray aérosol
  avec et sans pochoir. En extérieur. Annulation et report possible si mauv
 aise condition météorologiquePossibilité d’ateliers en intérieur à c
 ertaines périodes de l’annéeDurée : 1h30 Tarif (par personne) : 1 atel
 ier[..]\nhttps://lofficieldepaimboeuf.com/events/spray-aerosols/
URL:https://lofficieldepaimboeuf.com/events/spray-aerosols/
END:VEVENT
END:VCALENDAR