BEGIN:VCALENDAR
VERSION:2.0
PRODID:-//eventon.com NONSGML v1.0//EN
CALSCALE:GREGORIAN
METHOD:PUBLISH
BEGIN:VEVENT
UID:69e63958c2cd2
DTSTAMP:20260420T143400Z
DTSTART:20260702T120000Z
DTEND:20260702T180000Z
LOCATION:
SUMMARY:CroisiÃ¨re sur Loire
DESCRIPTION:Ã€ bord dâ€™un bateau Ã  fond plat dâ€™une capacitÃ© de onze pa
 ssagers\,  embarquez pour une croisiÃ¨re fluviale unique et intimiste sur l
 a rive sud de lâ€™estuaire. Une heure et quart de dÃ©couverte passionnante 
 en compagnie de MickaÃ«l qui partage sa passion pour ce fleuve\,  une maniÃ
 ¨re inÃ©dite dâ€™approcher toute la[..]\nhttps://lofficieldepaimboeuf.com/e
 vents/croisiere-sur-loire/
URL:https://lofficieldepaimboeuf.com/events/croisiere-sur-loire/
END:VEVENT
END:VCALENDAR