BEGIN:VCALENDAR
VERSION:2.0
PRODID:-//eventon.com NONSGML v1.0//EN
CALSCALE:GREGORIAN
METHOD:PUBLISH
BEGIN:VEVENT
UID:69e63aac69377
DTSTAMP:20260420T143940Z
DTSTART:20260415T123000Z
DTEND:20260415T140000Z
LOCATION:
SUMMARY:13Arts et parcours temporel
DESCRIPTION:Visite commentée de la résidence artistique 13Arts et du Parc
 ours temporel\,  parcours de fresques dans Paimbœuf.  L'ancien centre de 
 soin de Paimbœuf transformé en résidence artistique : les fresques d'une
  quinzaine d'artistes sont à y découvrir\,  Persu\,  Wide\,  Ador\,  Kors
 é\,  Ratz One\,  Jef Graffik\,  Syrk\,  Shore\,  Tarek\,  Dinar\,  Cédric
  Lopez\, [..]\nhttps://lofficieldepaimboeuf.com/events/13arts-et-parcours-t
 emporel/
URL:https://lofficieldepaimboeuf.com/events/13arts-et-parcours-temporel/
END:VEVENT
END:VCALENDAR