BEGIN:VCALENDAR
VERSION:2.0
PRODID:-//eventon.com NONSGML v1.0//EN
CALSCALE:GREGORIAN
METHOD:PUBLISH
BEGIN:VEVENT
UID:69e7634345f61
DTSTAMP:20260421T114507Z
DTSTART:20260329T080000Z
DTEND:20260329T130000Z
LOCATION:
SUMMARY:Bourse aux plantes
DESCRIPTION:La traditionnelle bourse aux plantes organisée par l'Amicale L
 aïque de Paimboeuf a lieu le dimanche 29 mars de 10 h à 15 h\,  au Jardin
  Étoilé. Cette édition offre à nouveau l’opportunité pour tous les a
 mateurs à la main verte d'échanger\,  partager\,  troquer leurs plants\, 
  graines\,  semis\,  boutures\,  bulbes et[..]\nhttps://lofficieldepaimboeu
 f.com/events/bourse-aux-plantes-au-jardin-etoile/
URL:https://lofficieldepaimboeuf.com/events/bourse-aux-plantes-au-jardin-etoile/
END:VEVENT
END:VCALENDAR