BEGIN:VCALENDAR
VERSION:2.0
PRODID:-//eventon.com NONSGML v1.0//EN
CALSCALE:GREGORIAN
METHOD:PUBLISH
BEGIN:VEVENT
UID:69e6a21f8616b
DTSTAMP:20260420T220103Z
DTSTART:20260401T080000Z
DTEND:20260401T160000Z
LOCATION:
SUMMARY:Bourse aux vêtements
DESCRIPTION:Bourse aux vêtements enfants 0-16 ans en très bon état\,  or
 ganisée par les élèves de seconde du lycée Albert Chassagne pour financ
 er des projets pédagogiques. (Photo Jill Wellington)\nhttps://lofficieldep
 aimboeuf.com/events/bourse-aux-vetements/
URL:https://lofficieldepaimboeuf.com/events/bourse-aux-vetements/
END:VEVENT
END:VCALENDAR