BEGIN:VCALENDAR
VERSION:2.0
PRODID:-//eventon.com NONSGML v1.0//EN
CALSCALE:GREGORIAN
METHOD:PUBLISH
BEGIN:VEVENT
UID:69e9f9a33f873
DTSTAMP:20260423T105115Z
DTSTART:20270626T190000Z
DTEND:20270626T210000Z
LOCATION:
SUMMARY:Tristan Sker
DESCRIPTION:Compositeur multi-instrumentiste originaire de Bretagne\,  Tris
 tan Sker associe instruments acoustiques\,  machines électroniques et text
 ures naturelles dans une esthétique néoclassique. Son approchepeu commune
  du violon apporte des sonorités éthérées ou torturées à des composit
 ions à forte charge émotionnelle. Après de nombreux concerts et un premi
 er album Continuum\,  il se concentre actuellement[..]\nhttps://lofficielde
 paimboeuf.com/events/tristan-sker/
URL:https://lofficieldepaimboeuf.com/events/tristan-sker/
END:VEVENT
END:VCALENDAR