BEGIN:VCALENDAR
VERSION:2.0
PRODID:-//eventon.com NONSGML v1.0//EN
CALSCALE:GREGORIAN
METHOD:PUBLISH
BEGIN:VEVENT
UID:69e63a9753b5e
DTSTAMP:20260420T143919Z
DTSTART:20260520T120000Z
DTEND:20260520T150000Z
LOCATION:
SUMMARY:Fête de la nature
DESCRIPTION:Dans le cadre de la Fête de la Nature\,  cet après-midi d’a
 nimations propose une immersion concrète et participative au cœur de la b
 iodiversité locale\,  en lien direct avec le site de la Pinède et son jar
 din aromatique.De 14h à 16h\,  plusieurs ateliers de sensibilisation activ
 e permettront aux participants de mieux[..]\nhttps://lofficieldepaimboeuf.c
 om/events/fete-de-la-nature-2/
URL:https://lofficieldepaimboeuf.com/events/fete-de-la-nature-2/
END:VEVENT
END:VCALENDAR