BEGIN:VCALENDAR
VERSION:2.0
PRODID:-//eventon.com NONSGML v1.0//EN
CALSCALE:GREGORIAN
METHOD:PUBLISH
BEGIN:VEVENT
UID:69e76301f291f
DTSTAMP:20260421T114401Z
DTSTART:20260325T123000Z
DTEND:20260325T153000Z
LOCATION:
SUMMARY:Jardinez malin
DESCRIPTION:Dans le cadre de l’opération Jardinez malin\,  organisée en
  mars par la Communauté de communes Sud Estuaire\,  son service Environnem
 ent et la Ville de Paimbœuf proposent un moment particulier aux ateliers m
 unicipaux. Une belle occasion de préparer son jardin avant l’arrivée du
  printemps. Programme Distribution de compost pour tous les[..]\nhttps://lo
 fficieldepaimboeuf.com/events/jardinez-malin/
URL:https://lofficieldepaimboeuf.com/events/jardinez-malin/
END:VEVENT
END:VCALENDAR