BEGIN:VCALENDAR
VERSION:2.0
PRODID:-//eventon.com NONSGML v1.0//EN
CALSCALE:GREGORIAN
METHOD:PUBLISH
BEGIN:VEVENT
UID:69e7638b77192
DTSTAMP:20260421T114619Z
DTSTART:20260312T180000Z
DTEND:20260312T225000Z
LOCATION:
SUMMARY:Paimbœuf à Pleine Voile
DESCRIPTION:Venez rencontrer notre équipe\,  découvrir notre programme et
  échanger avec nous ! Notre ambition est simple : construire l’avenir de
  Paimbœuf avec vous. Nous espérons vous y retrouver nombreux !\nhttps://l
 officieldepaimboeuf.com/events/paimboeuf-a-pleine-voile/
URL:https://lofficieldepaimboeuf.com/events/paimboeuf-a-pleine-voile/
END:VEVENT
END:VCALENDAR