BEGIN:VCALENDAR
VERSION:2.0
PRODID:-//eventon.com NONSGML v1.0//EN
CALSCALE:GREGORIAN
METHOD:PUBLISH
BEGIN:VEVENT
UID:69e7638b75566
DTSTAMP:20260421T114619Z
DTSTART:20260307T180000Z
DTEND:20260329T200000Z
LOCATION:
SUMMARY:Février la Louve • L'expo
DESCRIPTION:Tous les masques (ou presque) de Février la LouveMini vernissa
 ge de l'expo samedi 7 mars\,  19h Entrée libre aux heures d'ouverture du c
 afé.\nhttps://lofficieldepaimboeuf.com/events/fevrier-la-louve-lexpo/
URL:https://lofficieldepaimboeuf.com/events/fevrier-la-louve-lexpo/
END:VEVENT
END:VCALENDAR