BEGIN:VCALENDAR
VERSION:2.0
PRODID:-//eventon.com NONSGML v1.0//EN
CALSCALE:GREGORIAN
METHOD:PUBLISH
BEGIN:VEVENT
UID:69e7978518321
DTSTAMP:20260421T152805Z
DTSTART:20260329T140000Z
DTEND:20260329T215000Z
LOCATION:
SUMMARY:Harmonies
DESCRIPTION:Concert de l'Harmonie de Paimbœuf et de l’Orchestre d’Harm
 onie du Conservatoire de Cap Atlantique.\nhttps://lofficieldepaimboeuf.com/
 events/harmonies/
URL:https://lofficieldepaimboeuf.com/events/harmonies/
END:VEVENT
END:VCALENDAR