BEGIN:VCALENDAR
VERSION:2.0
PRODID:-//eventon.com NONSGML v1.0//EN
CALSCALE:GREGORIAN
METHOD:PUBLISH
BEGIN:VEVENT
UID:69e7631da456f
DTSTAMP:20260421T114429Z
DTSTART:20260320T153000Z
DTEND:20260320T170000Z
LOCATION:
SUMMARY:Écoles des 4 amarres
DESCRIPTION:Journée porte ouverte des écoles maternelle et primaire. Rens
 eignements école maternelle : 06.76.66.71.80 / ce.0440747y@ac-nantes.frRen
 seignements école élémentaire : 06.72.95.69.15 / ce.0440745w@ac-nantes.f
 r\nhttps://lofficieldepaimboeuf.com/events/ecoles-des-4-amarres/
URL:https://lofficieldepaimboeuf.com/events/ecoles-des-4-amarres/
END:VEVENT
END:VCALENDAR