BEGIN:VCALENDAR
VERSION:2.0
PRODID:-//eventon.com NONSGML v1.0//EN
CALSCALE:GREGORIAN
METHOD:PUBLISH
BEGIN:VEVENT
UID:69e7956df123f
DTSTAMP:20260421T151909Z
DTSTART:20260218T173000Z
DTEND:20260218T225000Z
LOCATION:
SUMMARY:Kuhlmann 1825-1982
DESCRIPTION:Les Établissements Kuhlmann ont joué un rôle clé dans l'éc
 onomie française en tant qu'acteur majeur de l'industrie chimique. Fondée
  en 1825 par Frédéric Kuhlmann\,  l'entreprise s'est d'abord spécialisé
 e dans la fabrication d'acides et d'engrais avant de diversifier ses activi
 tés vers la chimie de base\,  les colorants et les produits pharmaceutique
 s.[..]\nhttps://lofficieldepaimboeuf.com/events/kuhlmann-1825-1982/
URL:https://lofficieldepaimboeuf.com/events/kuhlmann-1825-1982/
END:VEVENT
END:VCALENDAR