BEGIN:VCALENDAR
VERSION:2.0
PRODID:-//eventon.com NONSGML v1.0//EN
CALSCALE:GREGORIAN
METHOD:PUBLISH
BEGIN:VEVENT
UID:69e76325aa34c
DTSTAMP:20260421T114437Z
DTSTART:20260228T090000Z
DTEND:20260228T120000Z
LOCATION:
SUMMARY:On se rencontre ?
DESCRIPTION:Parce qu'un projet municipal se construit avec les habitants\, 
  la liste Paimbœuf à Pleine Voile organise son deuxième café-rencontre.
  Un temps d'échange pour écouter nos attentes\,  répondre à vos questio
 ns et vous présenter notre vision pour Paimbœuf. Pour une heure ou dix mi
 nutes\,  venez nous rencontrer !\nhttps://lofficieldepaimboeuf.com/events/o
 n-se-rencontre-copy/
URL:https://lofficieldepaimboeuf.com/events/on-se-rencontre-copy/
END:VEVENT
END:VCALENDAR