BEGIN:VCALENDAR
VERSION:2.0
PRODID:-//eventon.com NONSGML v1.0//EN
CALSCALE:GREGORIAN
METHOD:PUBLISH
BEGIN:VEVENT
UID:69e795c13163c
DTSTAMP:20260421T152033Z
DTSTART:20260207T090000Z
DTEND:20260207T120000Z
LOCATION:
SUMMARY:On se rencontre ?
DESCRIPTION:Parce qu'un projet municipal se construit avec les habitants\, 
  la liste Paimbœuf à Pleine Voile organise son premier café-rencontre. U
 n temps d'échange pour écouter nos attentes\,  répondre à vos questions
  et vous présenter notre vision pour Paimbœuf. Pour une heure ou dix minu
 tes\,  venez nous rencontrer !\nhttps://lofficieldepaimboeuf.com/events/on-
 se-rencontre/
URL:https://lofficieldepaimboeuf.com/events/on-se-rencontre/
END:VEVENT
END:VCALENDAR