BEGIN:VCALENDAR
VERSION:2.0
PRODID:-//eventon.com NONSGML v1.0//EN
CALSCALE:GREGORIAN
METHOD:PUBLISH
BEGIN:VEVENT
UID:69e7625834af9
DTSTAMP:20260421T114112Z
DTSTART:20260207T080000Z
DTEND:20260306T160000Z
LOCATION:
SUMMARY:Éducation Civique
DESCRIPTION:Municipales – Le CSC à vos côtés pour voter&nbsp;! Dans le
  cadre des municipales\,  le Centre Socioculturel vous propose de nombreuse
 s actions et réunions pour vous accompagner tout au long des campagnes\,  
 notamment une exposition autour de l’éducation civique. Ouvert au public
  du lundi au vendredi (sauf mardi matin) de[..]\nhttps://lofficieldepaimboe
 uf.com/events/education-civique/
URL:https://lofficieldepaimboeuf.com/events/education-civique/
END:VEVENT
END:VCALENDAR