BEGIN:VCALENDAR
VERSION:2.0
PRODID:-//eventon.com NONSGML v1.0//EN
CALSCALE:GREGORIAN
METHOD:PUBLISH
BEGIN:VEVENT
UID:69e76298c5818
DTSTAMP:20260421T114216Z
DTSTART:20260216
DTEND:20260217
LOCATION:
SUMMARY:Mes Vacances chez Mireille
DESCRIPTION:Promenade en forêt\,  karaoké\,  visite de la base sous-marin
 e\,  etc.Tout le programme (pdf)\nhttps://lofficieldepaimboeuf.com/events/m
 es-vacances-chez-mireille/
URL:https://lofficieldepaimboeuf.com/events/mes-vacances-chez-mireille/
END:VEVENT
END:VCALENDAR