BEGIN:VCALENDAR
VERSION:2.0
PRODID:-//eventon.com NONSGML v1.0//EN
CALSCALE:GREGORIAN
METHOD:PUBLISH
BEGIN:VEVENT
UID:69e763da5aefa
DTSTAMP:20260421T114738Z
DTSTART:20260328T130000Z
DTEND:20260328T143000Z
LOCATION:
SUMMARY:13ARTS AG et Fête du court métrage
DESCRIPTION:Projection d'une sélection de courts-métrages de la Fête du 
 Court-Métrage\,  dans le cadre de l'assemblée générale de 13ARTS Tout l
 e programme (pdf)\nhttps://lofficieldepaimboeuf.com/events/ag-de-13arts/
URL:https://lofficieldepaimboeuf.com/events/ag-de-13arts/
END:VEVENT
END:VCALENDAR