BEGIN:VCALENDAR
VERSION:2.0
PRODID:-//eventon.com NONSGML v1.0//EN
CALSCALE:GREGORIAN
METHOD:PUBLISH
BEGIN:VEVENT
UID:69e763dab084e
DTSTAMP:20260421T114738Z
DTSTART:20260308T140000Z
DTEND:20260327T160000Z
LOCATION:
SUMMARY:Journée internationale des droits des femmes
DESCRIPTION:Plus qu'une journée\,  c'est toute l'année Exposition chez 13
 ARTS des œuvres réalisées avec les élèves du Lycée du Pays de Retz de
  Pornic en ateliers participatifs sur le thème de la journée internationa
 le des droits des femmes. Tous les jours de 14h à 16h Affiche de l'exposit
 ion Une mobilisation artistique[..]\nhttps://lofficieldepaimboeuf.com/event
 s/journee-internationale-des-droits-des-femmes/
URL:https://lofficieldepaimboeuf.com/events/journee-internationale-des-droits-des-femmes/
END:VEVENT
END:VCALENDAR