BEGIN:VCALENDAR
VERSION:2.0
PRODID:-//eventon.com NONSGML v1.0//EN
CALSCALE:GREGORIAN
METHOD:PUBLISH
BEGIN:VEVENT
UID:69e7629876cda
DTSTAMP:20260421T114216Z
DTSTART:20260329T150000Z
DTEND:20260329T170000Z
LOCATION:
SUMMARY:13ARTS fait son court
DESCRIPTION:Projection de courts métrages dans le cadre de La Fête du Cou
 rt Métrage Tout le programme (pdf)\nhttps://lofficieldepaimboeuf.com/event
 s/13arts-fait-son-court/
URL:https://lofficieldepaimboeuf.com/events/13arts-fait-son-court/
END:VEVENT
END:VCALENDAR