BEGIN:VCALENDAR
VERSION:2.0
PRODID:-//eventon.com NONSGML v1.0//EN
CALSCALE:GREGORIAN
METHOD:PUBLISH
BEGIN:VEVENT
UID:69e762b8447ad
DTSTAMP:20260421T114248Z
DTSTART:20260216T123000Z
DTEND:20260216T225000Z
LOCATION:
SUMMARY:En forêt
DESCRIPTION:Le Centre Socioculturel vous emmène à la Pierre Attelée ! Ca
 bane\,  découverte sensorielle\,  chasse au trésor\,  créations de manda
 la et œuvres éphémères ...Prévoir tenue de pluieSur inscription avant 
 mercredi 11 février au 02.40.27.51.77Gratuit\nhttps://lofficieldepaimboeuf
 .com/events/en-foret-2/
URL:https://lofficieldepaimboeuf.com/events/en-foret-2/
END:VEVENT
END:VCALENDAR