BEGIN:VCALENDAR
VERSION:2.0
PRODID:-//eventon.com NONSGML v1.0//EN
CALSCALE:GREGORIAN
METHOD:PUBLISH
BEGIN:VEVENT
UID:69e7631ebfda4
DTSTAMP:20260421T114430Z
DTSTART:20260207T083000Z
DTEND:20260207T225000Z
LOCATION:
SUMMARY:Coupe de la ligue de fléchettes
DESCRIPTION:Coupe organisée par les Fan'darts Compétition réservée aux 
 licenciés·es mais ouvert au public. Restauration sur place. La Coupe de l
 a Ligue sera organisée par les Fan'darts Compétition réservée aux licen
 cié·esCatégories : masculins\,  vétérans\,  féminins\,  juniors\,  pa
 radarts\,  doubles et doubles féminins. Inscription en ligne avant mercred
 i 4 février 2026 Démarrage de[..]\nhttps://lofficieldepaimboeuf.com/event
 s/coupe-de-la-ligue-de-flechettes/
URL:https://lofficieldepaimboeuf.com/events/coupe-de-la-ligue-de-flechettes/
END:VEVENT
END:VCALENDAR