BEGIN:VCALENDAR
VERSION:2.0
PRODID:-//eventon.com NONSGML v1.0//EN
CALSCALE:GREGORIAN
METHOD:PUBLISH
BEGIN:VEVENT
UID:69e762997f02d
DTSTAMP:20260421T114217Z
DTSTART:20260130T163000Z
DTEND:20260130T183000Z
LOCATION:
SUMMARY:Collège Louise Michel - Black Indians
DESCRIPTION:Toute l’équipe du collège Louise Michel vous accueille pour
  vous présenter l’établissement : Échanger avec les enseignants des di
 fférentes disciplines Rencontrer les personnels qui contribuent au fonctio
 nnement du collège Parler des difficultés spécifiques de votre enfant (s
 anté….) Nous répondrons à vos questions sur l’entrée en 6ème et le
  collège en[..]\nhttps://lofficieldepaimboeuf.com/events/college-louise-mi
 chel/
URL:https://lofficieldepaimboeuf.com/events/college-louise-michel/
END:VEVENT
END:VCALENDAR