BEGIN:VCALENDAR
VERSION:2.0
PRODID:-//eventon.com NONSGML v1.0//EN
CALSCALE:GREGORIAN
METHOD:PUBLISH
BEGIN:VEVENT
UID:69e79a5b33ab2
DTSTAMP:20260421T154011Z
DTSTART:20260124T090000Z
DTEND:20260124T110000Z
LOCATION:
SUMMARY:École du Sacré Cœur
DESCRIPTION:Portes ouvertes\nhttps://lofficieldepaimboeuf.com/events/ecole-
 du-sacre-coeur/
URL:https://lofficieldepaimboeuf.com/events/ecole-du-sacre-coeur/
END:VEVENT
END:VCALENDAR