BEGIN:VCALENDAR
VERSION:2.0
PRODID:-//eventon.com NONSGML v1.0//EN
CALSCALE:GREGORIAN
METHOD:PUBLISH
BEGIN:VEVENT
UID:69e795f07996d
DTSTAMP:20260421T152120Z
DTSTART:20260118T193000Z
DTEND:20260118T201500Z
LOCATION:
SUMMARY:Cinékami: l'installation-performance
DESCRIPTION:Cinékami - Projections dépliées&nbsp;&nbsp;Angélique Cormie
 r et Bruno Bouchard • France • 45 min • 2025 Des écrans de papier pl
 ié. Des projecteurs. Une machine à remonter le temps. Des disques. De la 
 pellicule. Des herbes\,  des mots\,  de la matière brute. Des pliages qui 
 s’animent. Cinékami est une installation réalisée[..]\nhttps://loffici
 eldepaimboeuf.com/events/cinekami-installation-performance-dangelique-cormi
 er-et-bruno-bouchard/
URL:https://lofficieldepaimboeuf.com/events/cinekami-installation-performance-dangelique-cormier-et-bruno-bouchard/
END:VEVENT
END:VCALENDAR