BEGIN:VCALENDAR
VERSION:2.0
PRODID:-//eventon.com NONSGML v1.0//EN
CALSCALE:GREGORIAN
METHOD:PUBLISH
BEGIN:VEVENT
UID:69e762b85bbd0
DTSTAMP:20260421T114248Z
DTSTART:20260118T160000Z
DTEND:20260118T174500Z
LOCATION:
SUMMARY:En d'autres langues\,  écoute collective et rencontre avec le producteur radio Antoine Chao
DESCRIPTION:En d’autres langues &nbsp;&nbsp;Antoine Chao • France • 1
 h15 • 2025 Faire entendre et comprendre d’autres langues à la radio es
 t un exercice de réalisation difficile et un enjeu politique de taille. Pa
 s de sous-titrage\,  tout doit passer par le sonore. Faire exister et réso
 nner les langues minoritaires relève aujourd’hui[..]\nhttps://lofficield
 epaimboeuf.com/events/en-dautres-langues-ecoute-collective-et-rencontre-ave
 c-le-producteur-radio-antoine-chao/
URL:https://lofficieldepaimboeuf.com/events/en-dautres-langues-ecoute-collective-et-rencontre-avec-le-producteur-radio-antoine-chao/
END:VEVENT
END:VCALENDAR