BEGIN:VCALENDAR
VERSION:2.0
PRODID:-//eventon.com NONSGML v1.0//EN
CALSCALE:GREGORIAN
METHOD:PUBLISH
BEGIN:VEVENT
UID:69e76299b718d
DTSTAMP:20260421T114217Z
DTSTART:20260118T130000Z
DTEND:20260118T150000Z
LOCATION:
SUMMARY:Le jour oÃ¹ jâ€™ai dÃ©couvert que Jane Fonda Ã©tait brune\,  projection-rencontre avec la rÃ©alisatrice Anna Salzberg
DESCRIPTION:Le jour oÃ¹ jâ€™ai dÃ©couvert que Jane Fonda Ã©tait brune &nbsp
 ; &nbsp;Anna Salzberg â€¢ France â€¢ 1h24 â€¢ 2022 Â«â€‰Jâ€™interroge ma mÃ
 ¨re sur son passÃ© fÃ©ministe et pourquoi elle a fait un enfant toute seule
 . Elle ne me rÃ©pond pas\,  alors je trouve des rÃ©ponses ailleurs\,  dans 
 des archives\,  auprÃ¨s[..]\nhttps://lofficieldepaimboeuf.com/events/le-jou
 r-ou-jai-decouvert-que-jane-fonda-etait-brune-projection-rencontre-avec-la-
 realisatrice-anna-salzberg/
URL:https://lofficieldepaimboeuf.com/events/le-jour-ou-jai-decouvert-que-jane-fonda-etait-brune-projection-rencontre-avec-la-realisatrice-anna-salzberg/
END:VEVENT
END:VCALENDAR