BEGIN:VCALENDAR
VERSION:2.0
PRODID:-//eventon.com NONSGML v1.0//EN
CALSCALE:GREGORIAN
METHOD:PUBLISH
BEGIN:VEVENT
UID:69e76257b9207
DTSTAMP:20260421T114111Z
DTSTART:20260118T100000Z
DTEND:20260118T113000Z
LOCATION:
SUMMARY:Voyage de documentation de Madame Anita Conti\,  projection-rencontre avec Marie Carrez\,  chargée de programmation à la Cinémathèque de Bretagne
DESCRIPTION:Voyage de documentation de Madame Anita Conti&nbsp;Louise Hémo
 n • France • 38&nbsp;min • 2023 Première femme océanographe frança
 ise\,  Anita Conti embarque en 1952 sur un chalutier pour partager la dure 
 vie des pêcheurs de morue en Atlantique. Seule avec sa caméra\,  ses appa
 reils photo et soixante hommes durant six mois.[..]\nhttps://lofficieldepai
 mboeuf.com/events/voyage-de-documentation-de-madame-anita-conti-projection-
 rencontre-avec-marie-carrez-chargee-de-programmation-a-la-cinematheque-de-b
 retagne/
URL:https://lofficieldepaimboeuf.com/events/voyage-de-documentation-de-madame-anita-conti-projection-rencontre-avec-marie-carrez-chargee-de-programmation-a-la-cinematheque-de-bretagne/
END:VEVENT
END:VCALENDAR