BEGIN:VCALENDAR
VERSION:2.0
PRODID:-//eventon.com NONSGML v1.0//EN
CALSCALE:GREGORIAN
METHOD:PUBLISH
BEGIN:VEVENT
UID:69e7629929ee0
DTSTAMP:20260421T114217Z
DTSTART:20260117T200000Z
DTEND:20260117T220000Z
LOCATION:
SUMMARY:Et j'aime à la fureur\,  projection-rencontre avec le réalisateur André Bonzel
DESCRIPTION:Et j’aime à la fureur&nbsp;André Bonzel • France • 1h36
  • 2021 Depuis son enfance\,  le coréalisateur de C’est arrivé près 
 de chez vous collectionne des bobines de films. Grâce à ces instants de v
 ie de cinéastes anonymes et ces traces d’émotions préservées\,  il re
 constitue l’aventure de sa famille. Avec[..]\nhttps://lofficieldepaimboeu
 f.com/events/et-jaime-a-la-fureur-projection-rencontre-avec-le-realisateur-
 andre-bonzel/
URL:https://lofficieldepaimboeuf.com/events/et-jaime-a-la-fureur-projection-rencontre-avec-le-realisateur-andre-bonzel/
END:VEVENT
END:VCALENDAR