BEGIN:VCALENDAR
VERSION:2.0
PRODID:-//eventon.com NONSGML v1.0//EN
CALSCALE:GREGORIAN
METHOD:PUBLISH
BEGIN:VEVENT
UID:69e795f17cda2
DTSTAMP:20260421T152121Z
DTSTART:20260117T180000Z
DTEND:20260117T183000Z
LOCATION:
SUMMARY:Projection Kino rétro
DESCRIPTION:Dans le cadre de la 19ème édition du festival Retours vers le
  futur à Châteauroux\,  CICLIC Centre-Val de Loire\,  Cinésia\,  Équino
 xe (Scène nationale de Châteauroux)\,  Home Movies\,  Image'Est\,  et MIR
 A ont organisé le 3ème Kino Rétro - Remake it !L'objectif proposé aux c
 réateurs\,  amateurs ou professionnels : réaliser un film[..]\nhttps://lo
 fficieldepaimboeuf.com/events/projection-kino-retro/
URL:https://lofficieldepaimboeuf.com/events/projection-kino-retro/
END:VEVENT
END:VCALENDAR