BEGIN:VCALENDAR
VERSION:2.0
PRODID:-//eventon.com NONSGML v1.0//EN
CALSCALE:GREGORIAN
METHOD:PUBLISH
BEGIN:VEVENT
UID:69e79588cccae
DTSTAMP:20260421T151936Z
DTSTART:20260117T153000Z
DTEND:20260117T173000Z
LOCATION:
SUMMARY:Le CinquiÃ¨me plan de la JetÃ©e\,  projection-rencontre avec la rÃ©alisatrice Dominique Cabrera
DESCRIPTION:Le CinquiÃ¨me plan de La JetÃ©e &nbsp;&nbsp;Dominique Cabrera â
 €¢ France â€¢ 1h37 â€¢ 2025 Le cousin de la rÃ©alisatrice\,  Jean-Henri\,  
 se reconnaÃ®t dans le film La JetÃ©e de Chris Marker. Il est lÃ  de dos\,  
 avec ses parents sur la terrasse dâ€™Orly dans le cinquiÃ¨me plan du film. 
 Aucun doute\, [..]\nhttps://lofficieldepaimboeuf.com/events/le-cinquieme-pl
 an-de-la-jetee-projection-rencontre-avec-la-realisatrice-dominique-cabrera/
URL:https://lofficieldepaimboeuf.com/events/le-cinquieme-plan-de-la-jetee-projection-rencontre-avec-la-realisatrice-dominique-cabrera/
END:VEVENT
END:VCALENDAR