BEGIN:VCALENDAR
VERSION:2.0
PRODID:-//eventon.com NONSGML v1.0//EN
CALSCALE:GREGORIAN
METHOD:PUBLISH
BEGIN:VEVENT
UID:69e7956c8ee38
DTSTAMP:20260421T151908Z
DTSTART:20260117T130000Z
DTEND:20260117T150000Z
LOCATION:
SUMMARY:Les Heures heureuses\,  projection-rencontre avec la rÃ©alisatrice Martine Deyres
DESCRIPTION:Les Heures heureuses&nbsp;Martine Deyres â€¢ France â€¢ 1h17 â€
 ¢ 2019 Sous le rÃ©gime de Vichy\,  plus de 45â€‰000&nbsp;internÃ©s sont mor
 ts dans les hÃ´pitaux psychiatriques franÃ§ais. Un seul lieu Ã©chappe Ã  ce
 tte hÃ©catombe. Ã€ lâ€™asile de Saint-Alban\,  soignants\,  malades et reli
 gieuses luttent ensemble pour la survie et accueillent clandestinement rÃ©f
 ugiÃ©s et[..]\nhttps://lofficieldepaimboeuf.com/events/les-heures-heureuses
 -projection-rencontre-avec-la-realisatrice-martine-deyres/
URL:https://lofficieldepaimboeuf.com/events/les-heures-heureuses-projection-rencontre-avec-la-realisatrice-martine-deyres/
END:VEVENT
END:VCALENDAR