BEGIN:VCALENDAR
VERSION:2.0
PRODID:-//eventon.com NONSGML v1.0//EN
CALSCALE:GREGORIAN
METHOD:PUBLISH
BEGIN:VEVENT
UID:69e795d862f12
DTSTAMP:20260421T152056Z
DTSTART:20260117T100000Z
DTEND:20260117T113000Z
LOCATION:
SUMMARY:Sur la plage de Belfast\,  projection-rencontre avec le réalisateur Henri-François Imbert
DESCRIPTION:Sur la plage de Belfast&nbsp;Henri-François Imbert • France 
 • 40&nbsp;min • 1996 Par un jeu de hasard\,  le réalisateur s’est tr
 ouvé en possession d’un film Super&nbsp;8\,  resté inachevé dans une c
 améra offerte par son amie de retour d’un voyage à Belfast. Le film mon
 tre une famille inconnue s’amusant au bord[..]\nhttps://lofficieldepaimbo
 euf.com/events/projection-rencontre-avec-le-realisateur-henri-francois-imbe
 rt/
URL:https://lofficieldepaimboeuf.com/events/projection-rencontre-avec-le-realisateur-henri-francois-imbert/
END:VEVENT
END:VCALENDAR