BEGIN:VCALENDAR
VERSION:2.0
PRODID:-//eventon.com NONSGML v1.0//EN
CALSCALE:GREGORIAN
METHOD:PUBLISH
BEGIN:VEVENT
UID:69e762fb2b861
DTSTAMP:20260421T114355Z
DTSTART:20260116T200000Z
DTEND:20260116T213000Z
LOCATION:
SUMMARY:Projection musicale
DESCRIPTION:Bruno Bouchard revient Ã  PaimbÅ“uf avec sa collection de clips
  qui passaient dans le jukebox du cafÃ© de sa mÃ¨re dans les annÃ©es 60\,  
 si si\,  câ€™est vrai ! Des raretÃ©s ou des tubes incontournables Ã  (re)dÃ
 ©couvrir. Et autres surprises! entrÃ©e libre\nhttps://lofficieldepaimboeuf.
 com/events/projection-musicale/
URL:https://lofficieldepaimboeuf.com/events/projection-musicale/
END:VEVENT
END:VCALENDAR