BEGIN:VCALENDAR
VERSION:2.0
PRODID:-//eventon.com NONSGML v1.0//EN
CALSCALE:GREGORIAN
METHOD:PUBLISH
BEGIN:VEVENT
UID:69e79636855b3
DTSTAMP:20260421T152230Z
DTSTART:20260116T180000Z
DTEND:20260116T183000Z
LOCATION:
SUMMARY:Projection d'ouverture : La Jetée\,  Chris Marker
DESCRIPTION:en amont du film de Dominique Cabrera\,  Le Cinquième plan de 
 La Jetée La JetéeChris Marker • France • 29&nbsp;min • 1962L’hist
 oire débute à Paris\,  après la « Troisième Guerre mondiale » et 
 la destruction nucléaire de toute la surface de la Terre. Le héros est le
  cobaye de scientifiques qui cherchent[..]\nhttps://lofficieldepaimboeuf.co
 m/events/la-jetee/
URL:https://lofficieldepaimboeuf.com/events/la-jetee/
END:VEVENT
END:VCALENDAR