BEGIN:VCALENDAR
VERSION:2.0
PRODID:-//eventon.com NONSGML v1.0//EN
CALSCALE:GREGORIAN
METHOD:PUBLISH
BEGIN:VEVENT
UID:69e796444e59c
DTSTAMP:20260421T152244Z
DTSTART:20260116T090000Z
DTEND:20260116T170000Z
LOCATION:
SUMMARY:CinÃ©kami: l'atelier
DESCRIPTION:Les artistes AngÃ©lique Cormier et Bruno Bouchard vous invitent
  Ã  participer Ã  la crÃ©ation de la matiÃ¨re du CinÃ©kami\,  installation-
 performance de projections dÃ©pliÃ©es sur origamis. cueillette et rÃ©colte 
 de vÃ©gÃ©taux pour rÃ©aliser des pellicules et diapositives construction dâ
 €™Ã©crans-origamis en papier rÃ©alisation de bandes-son avec objets sonores
 \,  claviers et partitions de[..]\nhttps://lofficieldepaimboeuf.com/events/
 atelier-cinekami/
URL:https://lofficieldepaimboeuf.com/events/atelier-cinekami/
END:VEVENT
END:VCALENDAR