BEGIN:VCALENDAR
VERSION:2.0
PRODID:-//eventon.com NONSGML v1.0//EN
CALSCALE:GREGORIAN
METHOD:PUBLISH
BEGIN:VEVENT
UID:69e762b8c8c32
DTSTAMP:20260421T114248Z
DTSTART:20260306T193000Z
DTEND:20260306T203000Z
LOCATION:
SUMMARY:Karma Boom
DESCRIPTION:À l’occasion de la Journée Internationale des Droits des Fe
 mmes\,  le Centre communal d’action sociale (CCAS) et le service Culture 
 de la commune unissent leurs forces pour organiser un concert solidaire. Ka
 rma Boom\,  c’est la rencontre de six femmes\,  réunies au sein d’un s
 extet vocal. Elles partagent le plaisir du[..]\nhttps://lofficieldepaimboeu
 f.com/events/karma-boom/
URL:https://lofficieldepaimboeuf.com/events/karma-boom/
END:VEVENT
END:VCALENDAR