BEGIN:VCALENDAR
VERSION:2.0
PRODID:-//eventon.com NONSGML v1.0//EN
CALSCALE:GREGORIAN
METHOD:PUBLISH
BEGIN:VEVENT
UID:69e796ad353ec
DTSTAMP:20260421T152429Z
DTSTART:20260131T170000Z
DTEND:20260131T225000Z
LOCATION:
SUMMARY:Audition
DESCRIPTION:Élèves et professeurs se rassemblent autour d'un répertoire 
 de musique baroque et Renaissance.\nhttps://lofficieldepaimboeuf.com/events
 /audition/
URL:https://lofficieldepaimboeuf.com/events/audition/
END:VEVENT
END:VCALENDAR