BEGIN:VCALENDAR
VERSION:2.0
PRODID:-//eventon.com NONSGML v1.0//EN
CALSCALE:GREGORIAN
METHOD:PUBLISH
BEGIN:VEVENT
UID:69e795f300c87
DTSTAMP:20260421T152123Z
DTSTART:20260130
DTEND:20260131
LOCATION:
SUMMARY:Jeux en Fête
DESCRIPTION:Événement ludique de l’année\,  un temps fort autour du je
 u (mais pas que !)Durant trois jours\,  nous vous invitons à partager des
  jeux de société\,  des espaces enfants\,  mais aussi des fléchettes\,  
 babyfoot\,  un grand jeu Une Famille en or\,  un spectacle enfant\,  un esc
 ape game et d’autres animations à découvrir.[..]\nhttps://lofficieldepa
 imboeuf.com/events/jeux-en-fete/
URL:https://lofficieldepaimboeuf.com/events/jeux-en-fete/
END:VEVENT
END:VCALENDAR